Package: TTMap Version: 1.30.0 Command: rm -rf TTMap.buildbin-libdir && mkdir TTMap.buildbin-libdir && /Users/biocbuild/BBS/utils/build-universal.sh TTMap_1.30.0.tar.gz /Library/Frameworks/R.framework/Resources/bin/R TTMap.buildbin-libdir StartedAt: 2025-10-14 15:00:46 -0400 (Tue, 14 Oct 2025) EndedAt: 2025-10-14 15:01:50 -0400 (Tue, 14 Oct 2025) EllapsedTime: 63.8 seconds RetCode: 0 Status: OK PackageFile: TTMap_1.30.0.tgz PackageFileSize: 1.391 MiB