Package: TTMap Version: 1.30.0 Command: /home/biocbuild/R/R/bin/R CMD INSTALL TTMap StartedAt: 2025-10-13 20:35:56 -0000 (Mon, 13 Oct 2025) EndedAt: 2025-10-13 20:36:27 -0000 (Mon, 13 Oct 2025) EllapsedTime: 31.3 seconds RetCode: 0 Status: OK