Package: TTMap Version: 1.30.0 Command: /home/biocbuild/R/R/bin/R CMD build --keep-empty-dirs --no-resave-data TTMap StartedAt: 2025-10-14 05:32:28 -0000 (Tue, 14 Oct 2025) EndedAt: 2025-10-14 05:33:33 -0000 (Tue, 14 Oct 2025) EllapsedTime: 65.1 seconds RetCode: 0 Status: OK PackageFile: TTMap_1.30.0.tar.gz PackageFileSize: 1.6 MiB