Package: TTMap Version: 1.30.0 Command: /Library/Frameworks/R.framework/Resources/bin/R CMD build --keep-empty-dirs --no-resave-data TTMap StartedAt: 2025-10-14 11:29:54 -0400 (Tue, 14 Oct 2025) EndedAt: 2025-10-14 11:30:58 -0400 (Tue, 14 Oct 2025) EllapsedTime: 63.5 seconds RetCode: 0 Status: OK PackageFile: TTMap_1.30.0.tar.gz PackageFileSize: 1.61 MiB