Package: TRESS Version: 1.14.0 Command: /home/biocbuild/R/R/bin/R CMD INSTALL TRESS StartedAt: 2025-10-13 20:53:57 -0000 (Mon, 13 Oct 2025) EndedAt: 2025-10-13 20:54:47 -0000 (Mon, 13 Oct 2025) EllapsedTime: 50.4 seconds RetCode: 0 Status: OK