Package: TFutils Version: 1.28.0 Command: /home/biocbuild/R/R/bin/R CMD INSTALL TFutils StartedAt: 2025-10-13 21:13:31 -0000 (Mon, 13 Oct 2025) EndedAt: 2025-10-13 21:14:47 -0000 (Mon, 13 Oct 2025) EllapsedTime: 76.7 seconds RetCode: 0 Status: OK