Package: TFutils Version: 1.28.0 Command: /home/biocbuild/R/R/bin/R CMD build --keep-empty-dirs --no-resave-data TFutils StartedAt: 2025-10-14 05:21:38 -0000 (Tue, 14 Oct 2025) EndedAt: 2025-10-14 05:26:01 -0000 (Tue, 14 Oct 2025) EllapsedTime: 263.2 seconds RetCode: 0 Status: OK PackageFile: TFutils_1.28.0.tar.gz PackageFileSize: 5.995 MiB