Package: TFEA.ChIP Version: 1.28.0 Command: /home/biocbuild/bbs-3.21-bioc/R/bin/R CMD INSTALL TFEA.ChIP StartedAt: 2025-10-15 15:38:44 -0400 (Wed, 15 Oct 2025) EndedAt: 2025-10-15 15:39:24 -0400 (Wed, 15 Oct 2025) EllapsedTime: 39.9 seconds RetCode: 0 Status: OK