Package: TFEA.ChIP Version: 1.28.0 Command: /home/biocbuild/bbs-3.21-bioc/R/bin/R CMD build --keep-empty-dirs --no-resave-data TFEA.ChIP StartedAt: 2025-10-15 20:17:30 -0400 (Wed, 15 Oct 2025) EndedAt: 2025-10-15 20:18:52 -0400 (Wed, 15 Oct 2025) EllapsedTime: 82.1 seconds RetCode: 0 Status: OK PackageFile: TFEA.ChIP_1.28.0.tar.gz PackageFileSize: 5.256 MiB