Package: TFBSTools Version: 1.46.0 Command: /home/biocbuild/R/R/bin/R CMD INSTALL TFBSTools StartedAt: 2025-10-13 21:07:07 -0000 (Mon, 13 Oct 2025) EndedAt: 2025-10-13 21:08:10 -0000 (Mon, 13 Oct 2025) EllapsedTime: 62.8 seconds RetCode: 0 Status: OK