Package: TFBSTools Version: 1.46.0 Command: /Library/Frameworks/R.framework/Resources/bin/R CMD INSTALL TFBSTools StartedAt: 2025-10-13 17:56:04 -0400 (Mon, 13 Oct 2025) EndedAt: 2025-10-13 17:56:56 -0400 (Mon, 13 Oct 2025) EllapsedTime: 51.9 seconds RetCode: 0 Status: OK