Package: TFBSTools Version: 1.46.0 Command: /Library/Frameworks/R.framework/Resources/bin/R CMD build --keep-empty-dirs --no-resave-data TFBSTools StartedAt: 2025-10-14 10:58:46 -0400 (Tue, 14 Oct 2025) EndedAt: 2025-10-14 11:00:15 -0400 (Tue, 14 Oct 2025) EllapsedTime: 88.9 seconds RetCode: 0 Status: OK PackageFile: TFBSTools_1.46.0.tar.gz PackageFileSize: 1.043 MiB