Package: TDbasedUFEadv Version: 1.8.1 Command: /home/biocbuild/R/R/bin/R CMD INSTALL TDbasedUFEadv StartedAt: 2025-10-13 21:07:01 -0000 (Mon, 13 Oct 2025) EndedAt: 2025-10-13 21:07:39 -0000 (Mon, 13 Oct 2025) EllapsedTime: 37.8 seconds RetCode: 0 Status: OK