Package: TDbasedUFEadv Version: 1.8.1 Command: /home/biocbuild/R/R/bin/R CMD build --keep-empty-dirs --no-resave-data TDbasedUFEadv StartedAt: 2025-10-14 05:19:36 -0000 (Tue, 14 Oct 2025) EndedAt: 2025-10-14 05:25:36 -0000 (Tue, 14 Oct 2025) EllapsedTime: 360.2 seconds RetCode: 0 Status: OK PackageFile: TDbasedUFEadv_1.8.1.tar.gz PackageFileSize: 3.63 MiB