Package: TDbasedUFE Version: 1.8.0 Command: /home/biocbuild/R/R/bin/R CMD build --keep-empty-dirs --no-resave-data TDbasedUFE StartedAt: 2025-10-14 05:19:33 -0000 (Tue, 14 Oct 2025) EndedAt: 2025-10-14 05:20:20 -0000 (Tue, 14 Oct 2025) EllapsedTime: 47.0 seconds RetCode: 0 Status: OK PackageFile: TDbasedUFE_1.8.0.tar.gz PackageFileSize: 1.269 MiB