Package: TDbasedUFE Version: 1.8.0 Command: /Library/Frameworks/R.framework/Resources/bin/R CMD INSTALL TDbasedUFE StartedAt: 2025-10-13 16:03:03 -0400 (Mon, 13 Oct 2025) EndedAt: 2025-10-13 16:03:17 -0400 (Mon, 13 Oct 2025) EllapsedTime: 13.5 seconds RetCode: 0 Status: OK