Package: TCseq Version: 1.32.0 Command: /home/biocbuild/bbs-3.21-bioc/R/bin/R CMD build --keep-empty-dirs --no-resave-data TCseq StartedAt: 2025-10-15 20:16:14 -0400 (Wed, 15 Oct 2025) EndedAt: 2025-10-15 20:17:00 -0400 (Wed, 15 Oct 2025) EllapsedTime: 46.1 seconds RetCode: 0 Status: OK PackageFile: TCseq_1.32.0.tar.gz PackageFileSize: 1.114 MiB