Package: TCseq Version: 1.32.0 Command: /home/biocbuild/R/R/bin/R CMD INSTALL TCseq StartedAt: 2025-10-13 20:49:06 -0000 (Mon, 13 Oct 2025) EndedAt: 2025-10-13 20:49:50 -0000 (Mon, 13 Oct 2025) EllapsedTime: 44.0 seconds RetCode: 0 Status: OK