Package: TCseq Version: 1.32.0 Command: /Library/Frameworks/R.framework/Resources/bin/R CMD build --keep-empty-dirs --no-resave-data TCseq StartedAt: 2025-10-14 10:52:40 -0400 (Tue, 14 Oct 2025) EndedAt: 2025-10-14 10:53:40 -0400 (Tue, 14 Oct 2025) EllapsedTime: 60.8 seconds RetCode: 0 Status: OK PackageFile: TCseq_1.32.0.tar.gz PackageFileSize: 1.114 MiB