Package: TCGAutils Version: 1.28.0 Command: /home/biocbuild/bbs-3.21-bioc/R/bin/R CMD INSTALL TCGAutils StartedAt: 2025-10-15 15:41:22 -0400 (Wed, 15 Oct 2025) EndedAt: 2025-10-15 15:41:58 -0400 (Wed, 15 Oct 2025) EllapsedTime: 36.3 seconds RetCode: 0 Status: OK