Package: TCGAutils Version: 1.28.0 Command: /Library/Frameworks/R.framework/Resources/bin/R CMD build --keep-empty-dirs --no-resave-data TCGAutils StartedAt: 2025-10-13 23:11:12 -0400 (Mon, 13 Oct 2025) EndedAt: 2025-10-13 23:16:06 -0400 (Mon, 13 Oct 2025) EllapsedTime: 294.4 seconds RetCode: 0 Status: OK PackageFile: TCGAutils_1.28.0.tar.gz PackageFileSize: 398.8 KiB