Package: TCGAutils Version: 1.28.0 Command: /home/biocbuild/R/R/bin/R CMD build --keep-empty-dirs --no-resave-data TCGAutils StartedAt: 2025-10-14 05:19:20 -0000 (Tue, 14 Oct 2025) EndedAt: 2025-10-14 05:24:28 -0000 (Tue, 14 Oct 2025) EllapsedTime: 308.2 seconds RetCode: 0 Status: OK PackageFile: TCGAutils_1.28.0.tar.gz PackageFileSize: 414.8 KiB