Package: TCGAutils Version: 1.28.0 Command: /Library/Frameworks/R.framework/Resources/bin/R CMD INSTALL TCGAutils StartedAt: 2025-10-13 17:25:06 -0400 (Mon, 13 Oct 2025) EndedAt: 2025-10-13 17:25:50 -0400 (Mon, 13 Oct 2025) EllapsedTime: 43.5 seconds RetCode: 0 Status: OK