Package: TCGAbiolinks Version: 2.36.0 Command: /home/biocbuild/R/R/bin/R CMD build --keep-empty-dirs --no-resave-data TCGAbiolinks StartedAt: 2025-10-14 05:19:18 -0000 (Tue, 14 Oct 2025) EndedAt: 2025-10-14 05:28:53 -0000 (Tue, 14 Oct 2025) EllapsedTime: 574.4 seconds RetCode: 0 Status: OK PackageFile: TCGAbiolinks_2.36.0.tar.gz PackageFileSize: 65.23 MiB