Package: TCGAbiolinks Version: 2.36.0 Command: /Library/Frameworks/R.framework/Resources/bin/R CMD INSTALL TCGAbiolinks StartedAt: 2025-10-13 16:05:21 -0400 (Mon, 13 Oct 2025) EndedAt: 2025-10-13 16:06:14 -0400 (Mon, 13 Oct 2025) EllapsedTime: 52.1 seconds RetCode: 0 Status: OK