Package: TCGAbiolinks Version: 2.36.0 Command: /Library/Frameworks/R.framework/Resources/bin/R CMD build --keep-empty-dirs --no-resave-data TCGAbiolinks StartedAt: 2025-10-14 10:52:11 -0400 (Tue, 14 Oct 2025) EndedAt: 2025-10-14 10:59:02 -0400 (Tue, 14 Oct 2025) EllapsedTime: 410.7 seconds RetCode: 0 Status: OK PackageFile: TCGAbiolinks_2.36.0.tar.gz PackageFileSize: 69.33 MiB