Package: TCC Version: 1.48.0 Command: /home/biocbuild/R/R/bin/R CMD INSTALL TCC StartedAt: 2025-10-13 20:33:06 -0000 (Mon, 13 Oct 2025) EndedAt: 2025-10-13 20:33:48 -0000 (Mon, 13 Oct 2025) EllapsedTime: 42.5 seconds RetCode: 0 Status: OK