Package: TCC Version: 1.48.0 Command: /home/biocbuild/R/R/bin/R CMD build --keep-empty-dirs --no-resave-data TCC StartedAt: 2025-10-14 05:19:08 -0000 (Tue, 14 Oct 2025) EndedAt: 2025-10-14 05:21:30 -0000 (Tue, 14 Oct 2025) EllapsedTime: 142.1 seconds RetCode: 0 Status: OK PackageFile: TCC_1.48.0.tar.gz PackageFileSize: 3.072 MiB