Package: TCC Version: 1.48.0 Command: /Library/Frameworks/R.framework/Resources/bin/R CMD INSTALL TCC StartedAt: 2025-10-13 16:21:20 -0400 (Mon, 13 Oct 2025) EndedAt: 2025-10-13 16:21:54 -0400 (Mon, 13 Oct 2025) EllapsedTime: 34.3 seconds RetCode: 0 Status: OK