Package: TCC Version: 1.48.0 Command: rm -rf TCC.buildbin-libdir && mkdir TCC.buildbin-libdir && /Users/biocbuild/BBS/utils/build-universal.sh TCC_1.48.0.tar.gz /Library/Frameworks/R.framework/Resources/bin/R TCC.buildbin-libdir StartedAt: 2025-10-15 20:48:21 -0400 (Wed, 15 Oct 2025) EndedAt: 2025-10-15 20:48:59 -0400 (Wed, 15 Oct 2025) EllapsedTime: 38.4 seconds RetCode: 0 Status: OK PackageFile: TCC_1.48.0.tgz PackageFileSize: 2.948 MiB