Package: TAPseq Version: 1.20.0 Command: /home/biocbuild/bbs-3.21-bioc/R/bin/R CMD INSTALL TAPseq StartedAt: 2025-10-15 15:38:06 -0400 (Wed, 15 Oct 2025) EndedAt: 2025-10-15 15:38:44 -0400 (Wed, 15 Oct 2025) EllapsedTime: 38.7 seconds RetCode: 0 Status: OK