Package: TAPseq Version: 1.20.0 Command: /home/biocbuild/R/R/bin/R CMD INSTALL TAPseq StartedAt: 2025-10-13 20:53:48 -0000 (Mon, 13 Oct 2025) EndedAt: 2025-10-13 20:54:44 -0000 (Mon, 13 Oct 2025) EllapsedTime: 55.7 seconds RetCode: 0 Status: OK