Package: TAPseq Version: 1.20.0 Command: /Library/Frameworks/R.framework/Resources/bin/R CMD INSTALL TAPseq StartedAt: 2025-10-13 17:12:23 -0400 (Mon, 13 Oct 2025) EndedAt: 2025-10-13 17:13:10 -0400 (Mon, 13 Oct 2025) EllapsedTime: 47.3 seconds RetCode: 0 Status: OK