Package: TAPseq Version: 1.20.0 Command: /Library/Frameworks/R.framework/Resources/bin/R CMD build --keep-empty-dirs --no-resave-data TAPseq StartedAt: 2025-10-14 10:50:58 -0400 (Tue, 14 Oct 2025) EndedAt: 2025-10-14 10:56:10 -0400 (Tue, 14 Oct 2025) EllapsedTime: 312.6 seconds RetCode: 0 Status: OK PackageFile: TAPseq_1.20.0.tar.gz PackageFileSize: 2.527 MiB