Package: TAPseq Version: 1.20.0 Command: rm -rf TAPseq.buildbin-libdir && mkdir TAPseq.buildbin-libdir && /Users/biocbuild/BBS/utils/build-universal.sh TAPseq_1.20.0.tar.gz /Library/Frameworks/R.framework/Resources/bin/R TAPseq.buildbin-libdir StartedAt: 2025-10-15 20:47:47 -0400 (Wed, 15 Oct 2025) EndedAt: 2025-10-15 20:48:38 -0400 (Wed, 15 Oct 2025) EllapsedTime: 50.9 seconds RetCode: 0 Status: OK PackageFile: TAPseq_1.20.0.tgz PackageFileSize: 2.96 MiB