Package: TADCompare Version: 1.18.0 Command: /home/biocbuild/R/R/bin/R CMD INSTALL TADCompare StartedAt: 2025-10-13 20:49:51 -0000 (Mon, 13 Oct 2025) EndedAt: 2025-10-13 20:50:35 -0000 (Mon, 13 Oct 2025) EllapsedTime: 43.9 seconds RetCode: 0 Status: OK