Package: SynExtend Version: 1.20.2 Command: /home/biocbuild/bbs-3.21-bioc/R/bin/R CMD INSTALL SynExtend StartedAt: 2025-10-15 15:32:19 -0400 (Wed, 15 Oct 2025) EndedAt: 2025-10-15 15:32:45 -0400 (Wed, 15 Oct 2025) EllapsedTime: 26.5 seconds RetCode: 0 Status: OK