Package: SynExtend Version: 1.20.2 Command: /home/biocbuild/bbs-3.21-bioc/R/bin/R CMD build --keep-empty-dirs --no-resave-data SynExtend StartedAt: 2025-10-15 20:13:59 -0400 (Wed, 15 Oct 2025) EndedAt: 2025-10-15 20:15:04 -0400 (Wed, 15 Oct 2025) EllapsedTime: 65.1 seconds RetCode: 0 Status: OK PackageFile: SynExtend_1.20.2.tar.gz PackageFileSize: 3.128 MiB