Package: SynExtend Version: 1.20.2 Command: /Library/Frameworks/R.framework/Resources/bin/R CMD build --keep-empty-dirs --no-resave-data SynExtend StartedAt: 2025-10-13 23:08:18 -0400 (Mon, 13 Oct 2025) EndedAt: 2025-10-13 23:10:50 -0400 (Mon, 13 Oct 2025) EllapsedTime: 152.1 seconds RetCode: 0 Status: OK PackageFile: SynExtend_1.20.2.tar.gz PackageFileSize: 3.129 MiB