Package: SynExtend Version: 1.20.2 Command: /home/biocbuild/R/R/bin/R CMD INSTALL SynExtend StartedAt: 2025-10-13 20:48:35 -0000 (Mon, 13 Oct 2025) EndedAt: 2025-10-13 20:49:15 -0000 (Mon, 13 Oct 2025) EllapsedTime: 39.2 seconds RetCode: 0 Status: OK