Package: SynExtend Version: 1.20.2 Command: /Library/Frameworks/R.framework/Resources/bin/R CMD build --keep-empty-dirs --no-resave-data SynExtend StartedAt: 2025-10-14 10:46:31 -0400 (Tue, 14 Oct 2025) EndedAt: 2025-10-14 10:48:16 -0400 (Tue, 14 Oct 2025) EllapsedTime: 105.0 seconds RetCode: 0 Status: OK PackageFile: SynExtend_1.20.2.tar.gz PackageFileSize: 3.129 MiB