Package: SynExtend Version: 1.20.2 Command: rm -rf SynExtend.buildbin-libdir && mkdir SynExtend.buildbin-libdir && /Users/biocbuild/BBS/utils/build-universal.sh SynExtend_1.20.2.tar.gz /Library/Frameworks/R.framework/Resources/bin/R SynExtend.buildbin-libdir StartedAt: 2025-10-15 20:46:49 -0400 (Wed, 15 Oct 2025) EndedAt: 2025-10-15 20:47:26 -0400 (Wed, 15 Oct 2025) EllapsedTime: 36.4 seconds RetCode: 0 Status: OK PackageFile: SynExtend_1.20.2.tgz PackageFileSize: 3.969 MiB