Package: SummarizedExperiment Version: 1.38.1 Command: /home/biocbuild/bbs-3.21-bioc/R/bin/R CMD INSTALL SummarizedExperiment StartedAt: 2025-10-15 15:16:04 -0400 (Wed, 15 Oct 2025) EndedAt: 2025-10-15 15:16:31 -0400 (Wed, 15 Oct 2025) EllapsedTime: 27.0 seconds RetCode: 0 Status: OK