Package: SummarizedExperiment Version: 1.38.1 Command: /home/biocbuild/R/R/bin/R CMD INSTALL SummarizedExperiment StartedAt: 2025-10-13 20:29:07 -0000 (Mon, 13 Oct 2025) EndedAt: 2025-10-13 20:29:47 -0000 (Mon, 13 Oct 2025) EllapsedTime: 40.2 seconds RetCode: 0 Status: OK