Package: SummarizedExperiment Version: 1.38.1 Command: /home/biocbuild/R/R/bin/R CMD build --keep-empty-dirs --no-resave-data SummarizedExperiment StartedAt: 2025-10-14 05:11:53 -0000 (Tue, 14 Oct 2025) EndedAt: 2025-10-14 05:12:59 -0000 (Tue, 14 Oct 2025) EllapsedTime: 66.0 seconds RetCode: 0 Status: OK PackageFile: SummarizedExperiment_1.38.1.tar.gz PackageFileSize: 762.1 KiB