Package: SummarizedExperiment Version: 1.38.1 Command: /Library/Frameworks/R.framework/Resources/bin/R CMD INSTALL SummarizedExperiment StartedAt: 2025-10-13 16:04:17 -0400 (Mon, 13 Oct 2025) EndedAt: 2025-10-13 16:04:49 -0400 (Mon, 13 Oct 2025) EllapsedTime: 31.3 seconds RetCode: 0 Status: OK