Package: SummarizedExperiment Version: 1.38.1 Command: /Library/Frameworks/R.framework/Resources/bin/R CMD build --keep-empty-dirs --no-resave-data SummarizedExperiment StartedAt: 2025-10-14 10:39:08 -0400 (Tue, 14 Oct 2025) EndedAt: 2025-10-14 10:40:13 -0400 (Tue, 14 Oct 2025) EllapsedTime: 64.6 seconds RetCode: 0 Status: OK PackageFile: SummarizedExperiment_1.38.1.tar.gz PackageFileSize: 672.8 KiB