Package: SummarizedExperiment Version: 1.38.1 Command: rm -rf SummarizedExperiment.buildbin-libdir && mkdir SummarizedExperiment.buildbin-libdir && /Users/biocbuild/BBS/utils/build-universal.sh SummarizedExperiment_1.38.1.tar.gz /Library/Frameworks/R.framework/Resources/bin/R SummarizedExperiment.buildbin-libdir StartedAt: 2025-10-15 20:45:08 -0400 (Wed, 15 Oct 2025) EndedAt: 2025-10-15 20:45:43 -0400 (Wed, 15 Oct 2025) EllapsedTime: 34.9 seconds RetCode: 0 Status: OK PackageFile: SummarizedExperiment_1.38.1.tgz PackageFileSize: 1.9 MiB