Package: SubCellBarCode Version: 1.24.0 Command: /home/biocbuild/bbs-3.21-bioc/R/bin/R CMD INSTALL SubCellBarCode StartedAt: 2025-10-15 15:25:03 -0400 (Wed, 15 Oct 2025) EndedAt: 2025-10-15 15:25:27 -0400 (Wed, 15 Oct 2025) EllapsedTime: 24.8 seconds RetCode: 0 Status: OK