Package: SubCellBarCode Version: 1.24.0 Command: /home/biocbuild/bbs-3.21-bioc/R/bin/R CMD build --keep-empty-dirs --no-resave-data SubCellBarCode StartedAt: 2025-10-15 20:11:46 -0400 (Wed, 15 Oct 2025) EndedAt: 2025-10-15 20:16:29 -0400 (Wed, 15 Oct 2025) EllapsedTime: 282.7 seconds RetCode: 0 Status: OK PackageFile: SubCellBarCode_1.24.0.tar.gz PackageFileSize: 2.306 MiB